BEGIN:VCALENDAR
VERSION:2.0
CALSCALE:GREGORIAN
PRODID:adamgibbons/ics
METHOD:PUBLISH
X-PUBLISHED-TTL:PT1H
BEGIN:VEVENT
UID:8453@calendari.cc
SUMMARY:Bailar el agua 🌊
DTSTAMP:20260424T160333Z
DTSTART:20260509T090000Z
DTEND:20260509T120000Z
URL:https://calendari.cc/event/bailar-el-agua-1
GEO:40.3887;-3.66672
LOCATION:La Villana de Vallekas - Calle Sierra de alquife 12
STATUS:CONFIRMED
CATEGORIES:Danza,Investigación del movimiento,laboratorio ciudadano,taller
END:VEVENT
BEGIN:VEVENT
UID:8456@calendari.cc
SUMMARY:Bailar el agua 🌊
DTSTAMP:20260424T160333Z
DTSTART:20260704T090000Z
DTEND:20260704T120000Z
URL:https://calendari.cc/event/bailar-el-agua-2
GEO:40.3887;-3.66672
LOCATION:La Villana de Vallekas - Calle Sierra de alquife 12
STATUS:CONFIRMED
CATEGORIES:Danza,Investigación del movimiento,laboratorio ciudadano,taller
END:VEVENT
END:VCALENDAR
